BEGIN:VCALENDAR
VERSION:2.0
PRODID:-//Tukios.com/
BEGIN:VEVENT
UID:cd72a82e-3b7d-4a1f-9a13-9d5bc70611e2@www.hoodmortuary.com
DTSTAMP:20260424T184922Z
DTSTART:20260502T200000Z
DTEND:20260502T210000Z
SUMMARY:Memorial Service
DESCRIPTION:
URL:https://www.hoodmortuary.com/obituaries/john-phillips-jr
LOCATION: 2 Hilltop Circle  Durango CO 81301
GEO:37.2962651;-107.8605101
END:VEVENT
END:VCALENDAR